BEGIN:VCALENDAR
VERSION:2.0
PRODID:-//wp-events-plugin.com//7.2.3.1//EN
TZID:America/Edmonton
X-WR-TIMEZONE:America/Edmonton
BEGIN:VEVENT
UID:16@wiasociety.org
DTSTART;TZID=America/Edmonton:20170216T104500
DTEND;TZID=America/Edmonton:20170216T124500
DTSTAMP:20170213T210338Z
URL:https://wiasociety.org/events/to-be-announced-3/
SUMMARY:Liability Management Solutions
DESCRIPTION:This months meeting room has graciously been provided by Shell.
  Please check-in on the 11th floor of Calgary Place - Tower 1 by 10:45 am.
  Secure your spot by registering on our website. \n\nTitle:   Liability Ma
 nagement Solutions \nDate:   February 16th\, 2017\nTime:  10:45 - 12:45\nP
 lace: Calgary Place - Tower 1\n           Floor 11\, conference room 1116-
 1118\n           330 5 Ave S.W.\n                \nPresenter: Patrick Grat
 ton - ‎Lighthouse Liability Solutions
LOCATION:Calgary Place - Tower 1 (Floor 11\, Conference Room 1116-1118)\, 3
 30 5th ave S.W.\, Calgary\, Alberta\, Canada
GEO:51.0488327;-114.06924320000002
X-APPLE-STRUCTURED-LOCATION;VALUE=URI;X-ADDRESS=330 5th ave S.W.\, Calgary\
 , Alberta\, Canada;X-APPLE-RADIUS=100;X-TITLE=Calgary Place - Tower 1 (Flo
 or 11\, Conference Room 1116-1118):geo:51.0488327,-114.06924320000002
END:VEVENT
BEGIN:VTIMEZONE
TZID:America/Edmonton
X-LIC-LOCATION:America/Edmonton
BEGIN:STANDARD
DTSTART:20161106T010000
TZOFFSETFROM:-0600
TZOFFSETTO:-0700
TZNAME:MST
END:STANDARD
END:VTIMEZONE
END:VCALENDAR